BEGIN:VCALENDAR
VERSION:2.0
PRODID:-//Capstone Wealth Partners - ECPv6.15.20//NONSGML v1.0//EN
CALSCALE:GREGORIAN
METHOD:PUBLISH
X-ORIGINAL-URL:https://capstonewealthpartners.com
X-WR-CALDESC:Events for Capstone Wealth Partners
REFRESH-INTERVAL;VALUE=DURATION:PT1H
X-Robots-Tag:noindex
X-PUBLISHED-TTL:PT1H
BEGIN:VTIMEZONE
TZID:America/New_York
BEGIN:DAYLIGHT
TZOFFSETFROM:-0500
TZOFFSETTO:-0400
TZNAME:EDT
DTSTART:20240310T070000
END:DAYLIGHT
BEGIN:STANDARD
TZOFFSETFROM:-0400
TZOFFSETTO:-0500
TZNAME:EST
DTSTART:20241103T060000
END:STANDARD
BEGIN:DAYLIGHT
TZOFFSETFROM:-0500
TZOFFSETTO:-0400
TZNAME:EDT
DTSTART:20250309T070000
END:DAYLIGHT
BEGIN:STANDARD
TZOFFSETFROM:-0400
TZOFFSETTO:-0500
TZNAME:EST
DTSTART:20251102T060000
END:STANDARD
BEGIN:DAYLIGHT
TZOFFSETFROM:-0500
TZOFFSETTO:-0400
TZNAME:EDT
DTSTART:20260308T070000
END:DAYLIGHT
BEGIN:STANDARD
TZOFFSETFROM:-0400
TZOFFSETTO:-0500
TZNAME:EST
DTSTART:20261101T060000
END:STANDARD
END:VTIMEZONE
BEGIN:VEVENT
DTSTART;TZID=America/New_York:20251105T190000
DTEND;TZID=America/New_York:20251105T200000
DTSTAMP:20260421T044022
CREATED:20251008T205529Z
LAST-MODIFIED:20251008T205536Z
UID:3915-1762369200-1762372800@capstonewealthpartners.com
SUMMARY:The College Admission Edge\, Part 1: Building a Great List
DESCRIPTION:A good college list is about more than just your GPA and test scores. It’s about finding the right schools for you—academically\, socially\, and financially. It’s a crucial step that can mean the difference between a great college experience and a mountain of student debt. \nIn part one of our two-part series\, The College Admission Edge\, we’ll help you and your student cut through the noise and build a college list with confidence. We’ll demystify the college search process by exploring the current admission landscape\, which operates much like a business. We’ll give you a new way to think about how colleges decide who to admit\, how much they’re willing to pay for you\, and how to spot a “likely admit” for your student. \nIn this essential webinar\, you’ll learn how to: \n\nMove beyond “brand names” and build a college list that is a great fit for your student’s unique needs and goals.\nUnderstand what colleges are really looking for\, including key trends in admissions and how colleges use data to build a class.\nSave thousands of dollars by learning how to identify which colleges are likely to give you the most “free money.”\nAvoid common mistakes like misinterpreting “demonstrated interest” and wasting time on schools that aren’t a good fit.\nNavigate college visits effectively to get a true sense of the campus culture and whether it’s the right place for you.\n\nCan’t make the live session? No worries! All registrants will be emailed a copy of the webinar recording and slide deck the next day. \nRESERVE YOUR SPOT NOW
URL:https://capstonewealthpartners.com/event/topic-the-college-admission-edge-part-1-building-a-great-list/
LOCATION:Webinar
END:VEVENT
BEGIN:VEVENT
DTSTART;TZID=America/New_York:20251112T190000
DTEND;TZID=America/New_York:20251112T203000
DTSTAMP:20260421T044022
CREATED:20251008T205822Z
LAST-MODIFIED:20251008T205822Z
UID:3916-1762974000-1762979400@capstonewealthpartners.com
SUMMARY:The College Admission Edge\, Part 2: How to Get Into the World’s Most Selective Colleges + Case Studies
DESCRIPTION:You’re a high-achieving student with big goals\, and you’ve set your sights on a highly selective college. But what does it really take to get in when the acceptance rate is in the single digits? It’s about more than just a 4.0 GPA and a perfect SAT score. It’s about understanding the unspoken rules of highly selective admissions and crafting a unique application that can’t be ignored. \nIn this webinar\, we’ll pull back the curtain on the “secret sauce” of highly selective college admissions. We’ll help you and your student move beyond the myths and develop a strategy to truly stand out from the crowd. We’ll share what these colleges are looking for and give you the tools to create an application that highlights your unique strengths and passions. \nDuring this session\, you’ll learn: \n\nWhat “highly selective” really means and how to set realistic expectations for the application process.\nThe “secret sauce” that sets apart successful applicants\, including the key qualities and experiences that selective colleges are truly seeking.\nHow to craft a compelling narrative through your essays\, activities\, and recommendations that tells your unique story.\nThe biggest mistakes students make when applying to selective schools and how to avoid them.\nHow to stand out and demonstrate your passion in a way that resonates with admissions officers.\n\nCan’t make the live session? No worries! All registrants will be emailed a copy of the webinar recording and slide deck the next day. \nRESERVE YOUR SPOT FREE
URL:https://capstonewealthpartners.com/event/the-college-admission-edge-part-2-how-to-get-into-the-worlds-most-selective-colleges-case-studies/
LOCATION:Webinar
END:VEVENT
END:VCALENDAR