BEGIN:VCALENDAR
VERSION:2.0
PRODID:-//Capstone Wealth Partners - ECPv6.15.20//NONSGML v1.0//EN
CALSCALE:GREGORIAN
METHOD:PUBLISH
X-WR-CALNAME:Capstone Wealth Partners
X-ORIGINAL-URL:https://capstonewealthpartners.com
X-WR-CALDESC:Events for Capstone Wealth Partners
REFRESH-INTERVAL;VALUE=DURATION:PT1H
X-Robots-Tag:noindex
X-PUBLISHED-TTL:PT1H
BEGIN:VTIMEZONE
TZID:America/New_York
BEGIN:DAYLIGHT
TZOFFSETFROM:-0500
TZOFFSETTO:-0400
TZNAME:EDT
DTSTART:20240310T070000
END:DAYLIGHT
BEGIN:STANDARD
TZOFFSETFROM:-0400
TZOFFSETTO:-0500
TZNAME:EST
DTSTART:20241103T060000
END:STANDARD
BEGIN:DAYLIGHT
TZOFFSETFROM:-0500
TZOFFSETTO:-0400
TZNAME:EDT
DTSTART:20250309T070000
END:DAYLIGHT
BEGIN:STANDARD
TZOFFSETFROM:-0400
TZOFFSETTO:-0500
TZNAME:EST
DTSTART:20251102T060000
END:STANDARD
BEGIN:DAYLIGHT
TZOFFSETFROM:-0500
TZOFFSETTO:-0400
TZNAME:EDT
DTSTART:20260308T070000
END:DAYLIGHT
BEGIN:STANDARD
TZOFFSETFROM:-0400
TZOFFSETTO:-0500
TZNAME:EST
DTSTART:20261101T060000
END:STANDARD
END:VTIMEZONE
BEGIN:VEVENT
DTSTART;TZID=America/New_York:20251008T190000
DTEND;TZID=America/New_York:20251008T200000
DTSTAMP:20260419T085642
CREATED:20250924T174841Z
LAST-MODIFIED:20250924T174940Z
UID:3906-1759950000-1759953600@capstonewealthpartners.com
SUMMARY:College Costs Series: Common Pitfalls with Aid Applications
DESCRIPTION:The journey to college is filled with excitement—and forms. The FAFSA and CSS Profile are your keys to unlocking financial aid\, but a single mistake can cost you thousands.\nIn this essential webinar\, we’ll walk through the most common and costly errors families make on their college financial aid applications. Learn how to navigate the new FAFSA\, understand the CSS Profile’s deeper dive\, and avoid the simple blunders that could jeopardize your student’s college dreams. \nIn this webinar\, you will learn: \n\nHow a single blank field or typo can delay your application and lose you aid.\nThe difference between FAFSA and CSS Profile asset reporting and how to manage your finances for maximum eligibility.\nWhy filing late is a serious mistake\, and how to stay on top of crucial deadlines.\nThe “special circumstances” that can help you get more aid\, and how to effectively communicate them to colleges.\nThe most common errors with household size\, parental information\, and tax data that can completely derail your application.\n\nJoin certified college financial consultant\, Joe Messinger\, and college planning consultant\, Amber Gilsdorf\, for this educational hour and Q&A session. \nREGISTER AND CLAIM YOUR FREE SPOT\nCan’t make the live session? No worries! All registrants will be emailed a copy of the webinar recording and slide deck the next day.
URL:https://capstonewealthpartners.com/event/college-costs-series-common-pitfalls-with-aid-applications/
LOCATION:Webinar
END:VEVENT
END:VCALENDAR