BEGIN:VCALENDAR
VERSION:2.0
PRODID:-//Capstone Wealth Partners - ECPv6.15.20//NONSGML v1.0//EN
CALSCALE:GREGORIAN
METHOD:PUBLISH
X-WR-CALNAME:Capstone Wealth Partners
X-ORIGINAL-URL:https://capstonewealthpartners.com
X-WR-CALDESC:Events for Capstone Wealth Partners
REFRESH-INTERVAL;VALUE=DURATION:PT1H
X-Robots-Tag:noindex
X-PUBLISHED-TTL:PT1H
BEGIN:VTIMEZONE
TZID:America/New_York
BEGIN:DAYLIGHT
TZOFFSETFROM:-0500
TZOFFSETTO:-0400
TZNAME:EDT
DTSTART:20250309T070000
END:DAYLIGHT
BEGIN:STANDARD
TZOFFSETFROM:-0400
TZOFFSETTO:-0500
TZNAME:EST
DTSTART:20251102T060000
END:STANDARD
BEGIN:DAYLIGHT
TZOFFSETFROM:-0500
TZOFFSETTO:-0400
TZNAME:EDT
DTSTART:20260308T070000
END:DAYLIGHT
BEGIN:STANDARD
TZOFFSETFROM:-0400
TZOFFSETTO:-0500
TZNAME:EST
DTSTART:20261101T060000
END:STANDARD
BEGIN:DAYLIGHT
TZOFFSETFROM:-0500
TZOFFSETTO:-0400
TZNAME:EDT
DTSTART:20270314T070000
END:DAYLIGHT
BEGIN:STANDARD
TZOFFSETFROM:-0400
TZOFFSETTO:-0500
TZNAME:EST
DTSTART:20271107T060000
END:STANDARD
END:VTIMEZONE
BEGIN:VEVENT
DTSTART;TZID=America/New_York:20260415T190000
DTEND;TZID=America/New_York:20260415T200000
DTSTAMP:20260419T142810
CREATED:20260114T191640Z
LAST-MODIFIED:20260406T033713Z
UID:4132-1776279600-1776283200@capstonewealthpartners.com
SUMMARY:College Costs Series: Smart Payment Strategies
DESCRIPTION:We hear it all the time\, “If you get into college\, we’ll make it work.” \nBefore you sign on the dotted line and commit to one of the BIGGEST investments of your life\, you NEED a plan that covers more than just the first semester. \nJoin Estrela Consulting and me for this webinar where we’ll move you beyond the college savings basics and help you build a comprehensive roadmap for all four years — down to the penny. \nDuring this webinar\, we will cover: \n\nMaximizing Assets: How to best utilize your 529 plan and identify other assets that can be applied to college costs.\nOptimizing Cash Flow: Strategies for managing ongoing expenses during the college years.\nSmart Lending: Understanding the different types of loans available and determining exactly when to use them.\nComprehensive Planning: How to build a total funding strategy before you commit to the first bill.\n\nDon’t go into the college years guessing. Join us on April 15th at 7 p.m. to learn how to build the perfect strategic payment plan that works for your family — and your wallet. \nCLICK HERE TO REGISTER NOW
URL:https://capstonewealthpartners.com/event/college-costs-series-smart-payment-strategies/
LOCATION:Webinar
CATEGORIES:College Planning
END:VEVENT
END:VCALENDAR