BEGIN:VCALENDAR
VERSION:2.0
PRODID:-//Capstone Wealth Partners - ECPv6.15.20//NONSGML v1.0//EN
CALSCALE:GREGORIAN
METHOD:PUBLISH
X-ORIGINAL-URL:https://capstonewealthpartners.com
X-WR-CALDESC:Events for Capstone Wealth Partners
REFRESH-INTERVAL;VALUE=DURATION:PT1H
X-Robots-Tag:noindex
X-PUBLISHED-TTL:PT1H
BEGIN:VTIMEZONE
TZID:America/New_York
BEGIN:DAYLIGHT
TZOFFSETFROM:-0500
TZOFFSETTO:-0400
TZNAME:EDT
DTSTART:20240310T070000
END:DAYLIGHT
BEGIN:STANDARD
TZOFFSETFROM:-0400
TZOFFSETTO:-0500
TZNAME:EST
DTSTART:20241103T060000
END:STANDARD
BEGIN:DAYLIGHT
TZOFFSETFROM:-0500
TZOFFSETTO:-0400
TZNAME:EDT
DTSTART:20250309T070000
END:DAYLIGHT
BEGIN:STANDARD
TZOFFSETFROM:-0400
TZOFFSETTO:-0500
TZNAME:EST
DTSTART:20251102T060000
END:STANDARD
BEGIN:DAYLIGHT
TZOFFSETFROM:-0500
TZOFFSETTO:-0400
TZNAME:EDT
DTSTART:20260308T070000
END:DAYLIGHT
BEGIN:STANDARD
TZOFFSETFROM:-0400
TZOFFSETTO:-0500
TZNAME:EST
DTSTART:20261101T060000
END:STANDARD
BEGIN:DAYLIGHT
TZOFFSETFROM:-0500
TZOFFSETTO:-0400
TZNAME:EDT
DTSTART:20270314T070000
END:DAYLIGHT
BEGIN:STANDARD
TZOFFSETFROM:-0400
TZOFFSETTO:-0500
TZNAME:EST
DTSTART:20271107T060000
END:STANDARD
END:VTIMEZONE
BEGIN:VEVENT
DTSTART;TZID=America/New_York:20250910T190000
DTEND;TZID=America/New_York:20250910T200000
DTSTAMP:20260419T123756
CREATED:20250828T204007Z
LAST-MODIFIED:20250828T204108Z
UID:3893-1757530800-1757534400@capstonewealthpartners.com
SUMMARY:Decoding College Testing: Your Guide to the SAT and ACT
DESCRIPTION:SAT? ACT? Or skip the test entirely? With shifting policies\, new test formats\, and changing scholarship rules\, navigating college admissions testing has never been more complex. \nJoin us as test prep expert Brian Stewart and certified college financial consultant Joe Messinger break down what’s changed\, what still matters\, and how students can make smart testing decisions in today’s evolving admissions landscape. \nREGISTER HERE FREE
URL:https://capstonewealthpartners.com/event/decoding-college-testing-your-guide-to-the-sat-and-act/
LOCATION:Webinar
END:VEVENT
BEGIN:VEVENT
DTSTART;TZID=America/New_York:20250917T190000
DTEND;TZID=America/New_York:20250917T200000
DTSTAMP:20260419T123756
CREATED:20250828T204709Z
LAST-MODIFIED:20250828T204709Z
UID:3894-1758135600-1758139200@capstonewealthpartners.com
SUMMARY:Smart Money Moves for the College-Bound™
DESCRIPTION:Capstone Wealth Partners is excited to be presenting Smart Money Moves for the College-Bound™ WEBINAR in partnership with our friends at BWS Education Consulting. \nDuring this presentation\, you will learn: \n\nHow the FAFSA Simplification Act will impact families.\nHow to find schools that will be the most generous with financial aid and scholarship money.\nStrategies available for high income families to get more free money for college.\nHow to have the college money talk with kids.\nHow to successfully appeal to colleges for more scholarship money.\n\nJoin nationally recognized college planning expert\, Joe Messinger\, CFP®\, ChFC\, CLU\, CCFC and college testing consultant\, Brian Stewart\, to become an informed consumer of higher education. (All who register will receive a recording of the webinar\, so if you can’t make the live\, no worries!) \nREGISTER HERE FREE
URL:https://capstonewealthpartners.com/event/smart-money-moves-for-the-college-bound/
LOCATION:Webinar
END:VEVENT
BEGIN:VEVENT
DTSTART;TZID=America/New_York:20251008T190000
DTEND;TZID=America/New_York:20251008T200000
DTSTAMP:20260419T123756
CREATED:20250924T174841Z
LAST-MODIFIED:20250924T174940Z
UID:3906-1759950000-1759953600@capstonewealthpartners.com
SUMMARY:College Costs Series: Common Pitfalls with Aid Applications
DESCRIPTION:The journey to college is filled with excitement—and forms. The FAFSA and CSS Profile are your keys to unlocking financial aid\, but a single mistake can cost you thousands.\nIn this essential webinar\, we’ll walk through the most common and costly errors families make on their college financial aid applications. Learn how to navigate the new FAFSA\, understand the CSS Profile’s deeper dive\, and avoid the simple blunders that could jeopardize your student’s college dreams. \nIn this webinar\, you will learn: \n\nHow a single blank field or typo can delay your application and lose you aid.\nThe difference between FAFSA and CSS Profile asset reporting and how to manage your finances for maximum eligibility.\nWhy filing late is a serious mistake\, and how to stay on top of crucial deadlines.\nThe “special circumstances” that can help you get more aid\, and how to effectively communicate them to colleges.\nThe most common errors with household size\, parental information\, and tax data that can completely derail your application.\n\nJoin certified college financial consultant\, Joe Messinger\, and college planning consultant\, Amber Gilsdorf\, for this educational hour and Q&A session. \nREGISTER AND CLAIM YOUR FREE SPOT\nCan’t make the live session? No worries! All registrants will be emailed a copy of the webinar recording and slide deck the next day.
URL:https://capstonewealthpartners.com/event/college-costs-series-common-pitfalls-with-aid-applications/
LOCATION:Webinar
END:VEVENT
BEGIN:VEVENT
DTSTART;TZID=America/New_York:20251105T190000
DTEND;TZID=America/New_York:20251105T200000
DTSTAMP:20260419T123756
CREATED:20251008T205529Z
LAST-MODIFIED:20251008T205536Z
UID:3915-1762369200-1762372800@capstonewealthpartners.com
SUMMARY:The College Admission Edge\, Part 1: Building a Great List
DESCRIPTION:A good college list is about more than just your GPA and test scores. It’s about finding the right schools for you—academically\, socially\, and financially. It’s a crucial step that can mean the difference between a great college experience and a mountain of student debt. \nIn part one of our two-part series\, The College Admission Edge\, we’ll help you and your student cut through the noise and build a college list with confidence. We’ll demystify the college search process by exploring the current admission landscape\, which operates much like a business. We’ll give you a new way to think about how colleges decide who to admit\, how much they’re willing to pay for you\, and how to spot a “likely admit” for your student. \nIn this essential webinar\, you’ll learn how to: \n\nMove beyond “brand names” and build a college list that is a great fit for your student’s unique needs and goals.\nUnderstand what colleges are really looking for\, including key trends in admissions and how colleges use data to build a class.\nSave thousands of dollars by learning how to identify which colleges are likely to give you the most “free money.”\nAvoid common mistakes like misinterpreting “demonstrated interest” and wasting time on schools that aren’t a good fit.\nNavigate college visits effectively to get a true sense of the campus culture and whether it’s the right place for you.\n\nCan’t make the live session? No worries! All registrants will be emailed a copy of the webinar recording and slide deck the next day. \nRESERVE YOUR SPOT NOW
URL:https://capstonewealthpartners.com/event/topic-the-college-admission-edge-part-1-building-a-great-list/
LOCATION:Webinar
END:VEVENT
BEGIN:VEVENT
DTSTART;TZID=America/New_York:20251112T190000
DTEND;TZID=America/New_York:20251112T203000
DTSTAMP:20260419T123756
CREATED:20251008T205822Z
LAST-MODIFIED:20251008T205822Z
UID:3916-1762974000-1762979400@capstonewealthpartners.com
SUMMARY:The College Admission Edge\, Part 2: How to Get Into the World’s Most Selective Colleges + Case Studies
DESCRIPTION:You’re a high-achieving student with big goals\, and you’ve set your sights on a highly selective college. But what does it really take to get in when the acceptance rate is in the single digits? It’s about more than just a 4.0 GPA and a perfect SAT score. It’s about understanding the unspoken rules of highly selective admissions and crafting a unique application that can’t be ignored. \nIn this webinar\, we’ll pull back the curtain on the “secret sauce” of highly selective college admissions. We’ll help you and your student move beyond the myths and develop a strategy to truly stand out from the crowd. We’ll share what these colleges are looking for and give you the tools to create an application that highlights your unique strengths and passions. \nDuring this session\, you’ll learn: \n\nWhat “highly selective” really means and how to set realistic expectations for the application process.\nThe “secret sauce” that sets apart successful applicants\, including the key qualities and experiences that selective colleges are truly seeking.\nHow to craft a compelling narrative through your essays\, activities\, and recommendations that tells your unique story.\nThe biggest mistakes students make when applying to selective schools and how to avoid them.\nHow to stand out and demonstrate your passion in a way that resonates with admissions officers.\n\nCan’t make the live session? No worries! All registrants will be emailed a copy of the webinar recording and slide deck the next day. \nRESERVE YOUR SPOT FREE
URL:https://capstonewealthpartners.com/event/the-college-admission-edge-part-2-how-to-get-into-the-worlds-most-selective-colleges-case-studies/
LOCATION:Webinar
END:VEVENT
BEGIN:VEVENT
DTSTART;TZID=America/New_York:20251203T190000
DTEND;TZID=America/New_York:20251203T200000
DTSTAMP:20260419T123756
CREATED:20251104T215633Z
LAST-MODIFIED:20251104T215633Z
UID:3946-1764788400-1764792000@capstonewealthpartners.com
SUMMARY:Smart Money Moves for the College-Bound - Alabama School of Fine Arts (Private)
DESCRIPTION:Capstone Wealth Partners is excited to be presenting Smart Money Moves for the College-Bound™ WEBINAR in partnership with the Alabama School of Fine Arts. \nDuring this presentation\, you will learn: \n\nHow much college think you can afford vs. how much your family can afford\nThe key differences between the FAFSA and CSS Profile\nHow to find schools that will be the most generous with financial aid and scholarship money\nHow to have the college money talk with kids\nHow to successfully appeal to colleges for more scholarship money\nThe college funding gap and resulting student loans\n\nJoin nationally recognized college planning expert\, Joe Messinger\, CFP®\, ChFC\, CLU\, CCFC to become an informed consumer of higher education and find ways to save BIG on the cost of college. \nAll who register will receive a recording of the webinar\, so if you can’t make the live session\, no worries! \n(This is a private event for the families with the Alabama School of Fine Arts. If you have any questions about the webinar\, please contact us at info@fkl.bcv.mybluehost.me.)
URL:https://capstonewealthpartners.com/event/smart-money-moves-for-the-college-bound-alabama-school-of-fine-arts-private/
LOCATION:Webinar
END:VEVENT
BEGIN:VEVENT
DTSTART;TZID=America/New_York:20260204T190000
DTEND;TZID=America/New_York:20260204T200000
DTSTAMP:20260419T123756
CREATED:20260114T191136Z
LAST-MODIFIED:20260114T191136Z
UID:4129-1770231600-1770235200@capstonewealthpartners.com
SUMMARY:Smart Money Moves for the College-Bound™ (St. Charles Preparatory School\, PRIVATE)
DESCRIPTION:Capstone Wealth Partners is excited to be presenting Smart Money Moves for the College-Bound™ WEBINAR in partnership with St. Charles Preparatory School.\nDuring this presentation\, you will learn: \n* Key differences in the FAFSA and CSS Profile\n* How to find schools that will be the most generous with financial aid and scholarship money.\n* Strategies available for high income families to get more free money for college.\n* How to have the college money talk with kids.\n* How to successfully appeal to colleges for more scholarship money. \nJoin nationally recognized college planning expert\, Joe Messinger\, CFP®\, ChFC\, CLU\, CCFC\, to become an informed consumer of higher education and find ways to save BIG on the cost of college. \nAll who register will receive a recording of the webinar\, so if you can’t make the live\, no worries! \nThis is a private event\, so if you need to register or are having difficulties registering\, please contact us.
URL:https://capstonewealthpartners.com/event/smart-money-moves-for-the-college-bound-st-charles-preparatory-school-private/
LOCATION:Webinar
CATEGORIES:College Planning
END:VEVENT
BEGIN:VEVENT
DTSTART;TZID=America/New_York:20260211T190000
DTEND;TZID=America/New_York:20260211T200000
DTSTAMP:20260419T123756
CREATED:20260114T191402Z
LAST-MODIFIED:20260128T211429Z
UID:4130-1770836400-1770840000@capstonewealthpartners.com
SUMMARY:College Costs Series: Understanding & Challenging Your Aid Package
DESCRIPTION:Congratulations! You’ve received your college acceptance letters — but the financial aid offer at your top-choice school isn’t quite what you expected. Before you let your “dream school” slip away\, it’s time to learn how to advocate for the funding YOU deserve.\nThe college financial aid process doesn’t have to end with your initial award letter. In this session of our College Costs Series\, we will pull back the curtain on the “appeals” process\, showing you how to strategically request more aid. \nWhether your family has experienced a recent financial shift or you simply want to leverage a better offer from a competing institution\, we will give you the tools to bridge the gap. \nWhat We Will Cover: \n\nDeciphering the Award Letter: Learn how to identify “gift aid” (grants and scholarships) vs. “self-help aid” (loans and work-study) to find your true out-of-pocket cost.\nSpecial Circumstance Appeals: How to formally request a “Professional Judgment” review if your family has experienced a significant change\, such as job loss\, medical expenses\, or divorce\, that isn’t reflected on the FAFSA.\nCompetitive Appeals & Matching: Strategies for using offers from other colleges to negotiate a more competitive package at your preferred school.\nBudget & Dependency Appeals: Understanding how to challenge your Cost of Attendance (COA) or request a dependency override in unique situations.\nThe Appeal Timeline: Knowing when to reach out to the financial aid office to maximize your chances of success before funds run out.\n\nWho Should Attend: \n\nHigh school seniors and their parents navigating the spring “decision window.”\nCurrent college students whose financial situations have changed mid-year.\nGuidance counselors looking to support families in the negotiation process.\n\nDon’t leave money on the table. Join us for this interactive session and walk away with a clear action plan and the confidence to challenge your aid package. Click the link below to reserve your spot now. \nRESERVE YOUR SPOT
URL:https://capstonewealthpartners.com/event/college-costs-series-understanding-challenging-your-aid-package/
LOCATION:Webinar
CATEGORIES:College Planning
END:VEVENT
BEGIN:VEVENT
DTSTART;TZID=America/New_York:20260211T190000
DTEND;TZID=America/New_York:20260211T200000
DTSTAMP:20260419T123756
CREATED:20260320T175150Z
LAST-MODIFIED:20260406T033434Z
UID:4380-1770836400-1770840000@capstonewealthpartners.com
SUMMARY:College Costs Series: Understanding & Challenging Your Aid Package
DESCRIPTION:Congratulations! You’ve received your college acceptance letters — but the financial aid offer at your top-choice school isn’t quite what you expected. Before you let your “dream school” slip away\, it’s time to learn how to advocate for the funding YOU deserve. \nThe college financial aid process doesn’t have to end with your initial award letter. In this session of our College Costs Series\, we will pull back the curtain on the “appeals” process\, showing you how to strategically request more aid. \nWhether your family has experienced a recent financial shift or you simply want to leverage a better offer from a competing institution\, we will give you the tools to bridge the gap. \nWhat We Will Cover: \n\nDeciphering the Award Letter: Learn how to identify “gift aid” (grants and scholarships) vs. “self-help aid” (loans and work-study) to find your true out-of-pocket cost.\nSpecial Circumstance Appeals: How to formally request a “Professional Judgment” review if your family has experienced a significant change\, such as job loss\, medical expenses\, or divorce\, that isn’t reflected on the FAFSA.\nCompetitive Appeals & Matching: Strategies for using offers from other colleges to negotiate a more competitive package at your preferred school.\nBudget & Dependency Appeals: Understanding how to challenge your Cost of Attendance (COA) or request a dependency override in unique situations.\nThe Appeal Timeline: Knowing when to reach out to the financial aid office to maximize your chances of success before funds run out.\n\nWho Should Attend: \n\nHigh school seniors and their parents navigating the spring “decision window.”\nCurrent college students whose financial situations have changed mid-year.\nGuidance counselors looking to support families in the negotiation process.\n\nDon’t leave money on the table. Join us for this interactive session and walk away with a clear action plan and the confidence to challenge your aid package. \nCLICK HERE TO REGISTER NOW!
URL:https://capstonewealthpartners.com/event/college-costs-series-understanding-challenging-your-aid-package-2/
LOCATION:Webinar
CATEGORIES:College Planning
END:VEVENT
BEGIN:VEVENT
DTSTART;TZID=America/New_York:20260414T190000
DTEND;TZID=America/New_York:20260414T200000
DTSTAMP:20260419T123756
CREATED:20260406T033909Z
LAST-MODIFIED:20260406T033909Z
UID:4527-1776193200-1776196800@capstonewealthpartners.com
SUMMARY:Smart Money Moves for the College-Bound™ (Alabama School of Fine Arts)
DESCRIPTION:Capstone Wealth Partners is excited to be presenting Smart Money Moves for the College-Bound™ WEBINAR in partnership with the Alabama School of Fine Arts\, Indian Springs School\, Homewood High School\, and Mountain Brook High School. \nDuring this presentation\, you will learn: \n* How much colleges think you can afford vs. how much your family can afford\n* The key differences between the FAFSA and CSS Profile\n* How to find schools that will be the most generous with financial aid and scholarship money\n* How to have the college money talk with kids\n* How to successfully appeal to colleges for more scholarship money\n* The college funding gap and resulting student loans\n* How to access your FREE College Money Report™ that will tell you exactly how much you’ll have to pay for college… down to the penny! \nJoin nationally recognized college planning expert\, Joe Messinger\, CFP®\, ChFC\, CLU\, CCFC to become an informed consumer of higher education and find ways to save BIG on the cost of college. \nAll who register will receive a recording of the webinar\, so if you can’t make the live\, no worries! \n(This is a private event for families with students at the Alabama School of Fine Arts\, Indian Springs School\, Homewood High School\, and Mountain Brook High School. If you have any questions about the webinar\, please contact us at info@capstonewealthpartners.com.)
URL:https://capstonewealthpartners.com/event/smart-money-moves-for-the-college-bound-alabama-school-of-fine-arts/
CATEGORIES:College Planning
END:VEVENT
BEGIN:VEVENT
DTSTART;TZID=America/New_York:20260415T190000
DTEND;TZID=America/New_York:20260415T200000
DTSTAMP:20260419T123756
CREATED:20260114T191640Z
LAST-MODIFIED:20260406T033713Z
UID:4132-1776279600-1776283200@capstonewealthpartners.com
SUMMARY:College Costs Series: Smart Payment Strategies
DESCRIPTION:We hear it all the time\, “If you get into college\, we’ll make it work.” \nBefore you sign on the dotted line and commit to one of the BIGGEST investments of your life\, you NEED a plan that covers more than just the first semester. \nJoin Estrela Consulting and me for this webinar where we’ll move you beyond the college savings basics and help you build a comprehensive roadmap for all four years — down to the penny. \nDuring this webinar\, we will cover: \n\nMaximizing Assets: How to best utilize your 529 plan and identify other assets that can be applied to college costs.\nOptimizing Cash Flow: Strategies for managing ongoing expenses during the college years.\nSmart Lending: Understanding the different types of loans available and determining exactly when to use them.\nComprehensive Planning: How to build a total funding strategy before you commit to the first bill.\n\nDon’t go into the college years guessing. Join us on April 15th at 7 p.m. to learn how to build the perfect strategic payment plan that works for your family — and your wallet. \nCLICK HERE TO REGISTER NOW
URL:https://capstonewealthpartners.com/event/college-costs-series-smart-payment-strategies/
LOCATION:Webinar
CATEGORIES:College Planning
END:VEVENT
END:VCALENDAR