BEGIN:VCALENDAR
VERSION:2.0
PRODID:-//Capstone Wealth Partners - ECPv6.15.20//NONSGML v1.0//EN
CALSCALE:GREGORIAN
METHOD:PUBLISH
X-ORIGINAL-URL:https://capstonewealthpartners.com
X-WR-CALDESC:Events for Capstone Wealth Partners
REFRESH-INTERVAL;VALUE=DURATION:PT1H
X-Robots-Tag:noindex
X-PUBLISHED-TTL:PT1H
BEGIN:VTIMEZONE
TZID:America/Halifax
BEGIN:DAYLIGHT
TZOFFSETFROM:-0400
TZOFFSETTO:-0300
TZNAME:ADT
DTSTART:20200308T060000
END:DAYLIGHT
BEGIN:STANDARD
TZOFFSETFROM:-0300
TZOFFSETTO:-0400
TZNAME:AST
DTSTART:20201101T050000
END:STANDARD
BEGIN:DAYLIGHT
TZOFFSETFROM:-0400
TZOFFSETTO:-0300
TZNAME:ADT
DTSTART:20210314T060000
END:DAYLIGHT
BEGIN:STANDARD
TZOFFSETFROM:-0300
TZOFFSETTO:-0400
TZNAME:AST
DTSTART:20211107T050000
END:STANDARD
BEGIN:DAYLIGHT
TZOFFSETFROM:-0400
TZOFFSETTO:-0300
TZNAME:ADT
DTSTART:20220313T060000
END:DAYLIGHT
BEGIN:STANDARD
TZOFFSETFROM:-0300
TZOFFSETTO:-0400
TZNAME:AST
DTSTART:20221106T050000
END:STANDARD
END:VTIMEZONE
BEGIN:VEVENT
DTSTART;TZID=America/Halifax:20210428T190000
DTEND;TZID=America/Halifax:20210428T203000
DTSTAMP:20260425T092923
CREATED:20210302T235005Z
LAST-MODIFIED:20210412T110726Z
UID:2560-1619636400-1619641800@capstonewealthpartners.com
SUMMARY:Smart Money Moves for the College-Bound™ WEBINAR
DESCRIPTION:Join Joe Messinger for his Smart Money Moves for the College-Bound ™ WEBINAR. \nJoe answers parent’s biggest questions about paying for college in Smart Money Moves for the College-Bound: \nWhere can we get into college?\nWhere can we get the most financial aid and scholarship money?\nWhat strategies are available to me if I make too much money to qualify for financial aid?\nWhat colleges can we afford based on our personal resources?\nAll registrants receive a recording of the webinar. \nJoe Messinger\, CFP®\, is passionate about empowering families to become informed consumers of higher education. Don’t pay a penny more for college than you absolutely have to! \nJoe works with families to help demystify the college funding process and is widely recognized as an expert in college planning. \n[minti_button link=”https://zoom.us/webinar/register/WN_YeUNO5UUT76Q96whLmgGXA” size=”large” target=”_blank” lightbox=”false” color=”color-3″ icon=””]Register Here[/minti_button]
URL:https://capstonewealthpartners.com/event/smart-money-moves-for-the-college-bound-webinar-16/
CATEGORIES:Speaking Event
ATTACH;FMTTYPE=image/png:https://capstonewealthpartners.com/wp-content/uploads/2021/03/Chess-Moves600400.png
END:VEVENT
END:VCALENDAR