BEGIN:VCALENDAR
VERSION:2.0
PRODID:-//Capstone Wealth Partners - ECPv6.15.20//NONSGML v1.0//EN
CALSCALE:GREGORIAN
METHOD:PUBLISH
X-WR-CALNAME:Capstone Wealth Partners
X-ORIGINAL-URL:https://capstonewealthpartners.com
X-WR-CALDESC:Events for Capstone Wealth Partners
REFRESH-INTERVAL;VALUE=DURATION:PT1H
X-Robots-Tag:noindex
X-PUBLISHED-TTL:PT1H
BEGIN:VTIMEZONE
TZID:America/Halifax
BEGIN:DAYLIGHT
TZOFFSETFROM:-0400
TZOFFSETTO:-0300
TZNAME:ADT
DTSTART:20170312T060000
END:DAYLIGHT
BEGIN:STANDARD
TZOFFSETFROM:-0300
TZOFFSETTO:-0400
TZNAME:AST
DTSTART:20171105T050000
END:STANDARD
BEGIN:DAYLIGHT
TZOFFSETFROM:-0400
TZOFFSETTO:-0300
TZNAME:ADT
DTSTART:20180311T060000
END:DAYLIGHT
BEGIN:STANDARD
TZOFFSETFROM:-0300
TZOFFSETTO:-0400
TZNAME:AST
DTSTART:20181104T050000
END:STANDARD
BEGIN:DAYLIGHT
TZOFFSETFROM:-0400
TZOFFSETTO:-0300
TZNAME:ADT
DTSTART:20190310T060000
END:DAYLIGHT
BEGIN:STANDARD
TZOFFSETFROM:-0300
TZOFFSETTO:-0400
TZNAME:AST
DTSTART:20191103T050000
END:STANDARD
END:VTIMEZONE
BEGIN:VEVENT
DTSTART;TZID=America/Halifax:20180514T090000
DTEND;TZID=America/Halifax:20180517T090000
DTSTAMP:20260421T062156
CREATED:20180508T141034Z
LAST-MODIFIED:20180508T142243Z
UID:1297-1526288400-1526547600@capstonewealthpartners.com
SUMMARY:Dream College Summit
DESCRIPTION:
URL:https://capstonewealthpartners.com/event/dream-college-summit/
LOCATION:Dream College Summit
CATEGORIES:Dream College Summit
END:VEVENT
END:VCALENDAR